BEGIN:VCALENDAR
VERSION:2.0
PRODID:-//Tukios.com/
BEGIN:VEVENT
UID:bb822bc0-f06c-402f-8ab1-df3a9a899f92@www.lynch-radkowski.com
DTSTAMP:20260424T075233Z
DTSTART:20260619T140000Z
DTEND:20260619T150000Z
SUMMARY:Mass
DESCRIPTION:
URL:https://www.lynch-radkowski.com/obituaries/mary-louise-reuscher
LOCATION:Sacred Heart Church 337 Center Street  Saint Marys PA 15857
GEO:41.4267726;-78.5651092
END:VEVENT
END:VCALENDAR