BEGIN:VCALENDAR
VERSION:2.0
PRODID:-//Tukios.com/
BEGIN:VEVENT
UID:8998d918-0ef9-4150-97a8-64ff40919a4b@www.lynch-radkowski.com
DTSTAMP:20260424T075232Z
DTSTART:20260619T150000Z
DTEND:20260619T151500Z
SUMMARY:Burial
DESCRIPTION:
URL:https://www.lynch-radkowski.com/obituaries/mary-louise-reuscher
LOCATION: 604 E. Joseph Road  Saint Marys PA 15857
GEO:41.437684;-78.572109
END:VEVENT
END:VCALENDAR