BEGIN:VCALENDAR
VERSION:2.0
PRODID:-//Tukios.com/
BEGIN:VEVENT
UID:5588ba1b-c0ef-4dad-8086-97ec76add828@www.lynch-radkowski.com
DTSTAMP:20260424T154627Z
DTSTART:20260429T150000Z
DTEND:20260429T160000Z
SUMMARY:Burial
DESCRIPTION:
URL:https://www.lynch-radkowski.com/obituaries/mary-lee-bankovic
LOCATION: 604 E. Joseph Road  Saint Marys PA 15857
GEO:41.437684;-78.572109
END:VEVENT
END:VCALENDAR