BEGIN:VCALENDAR
VERSION:2.0
PRODID:-//Tukios.com/
BEGIN:VEVENT
UID:375c38ec-a355-4198-a4c7-34ee53826a3e@www.lynch-radkowski.com
DTSTAMP:20260424T154248Z
DTSTART:20260428T210000Z
DTEND:20260428T230000Z
SUMMARY:Visitation
DESCRIPTION:
URL:https://www.lynch-radkowski.com/obituaries/mary-lee-bankovic
LOCATION:Lynch-Radkowski Funeral Home 169 Center Street  Saint Marys PA 
	15857
GEO:41.4274188;-78.5634679
END:VEVENT
END:VCALENDAR