BEGIN:VCALENDAR
VERSION:2.0
PRODID:-//Tukios.com/
BEGIN:VEVENT
UID:7e2a6402-3c58-4248-b74f-ff261060e840@www.lynch-radkowski.com
DTSTAMP:20260424T154730Z
DTSTART:20260429T140000Z
DTEND:20260429T150000Z
SUMMARY:Mass
DESCRIPTION:
URL:https://www.lynch-radkowski.com/obituaries/mary-lee-bankovic
LOCATION:Queen of the World Church 134 Queens Rd  St Marys PA 15857
GEO:41.4197963;-78.5492542
END:VEVENT
END:VCALENDAR